BEGIN:VCALENDAR
VERSION:2.0
PRODID:-//Tukios.com/
BEGIN:VEVENT
UID:f95dccab-7f3b-409e-81b4-9ef5cfa5f9dc@www.steinhaushollyfuneralhome.com
DTSTAMP:20260423T221917Z
DTSTART:20260613T190000Z
DTEND:20260613T200000Z
SUMMARY:Celebration of Life
DESCRIPTION:
URL:https://www.steinhaushollyfuneralhome.com/obituaries/cari-ross-wrzinski
LOCATION:Wrzinski Home W5257 Elk Rd.  Montello WI 53949
GEO:43.8488693;-89.4235833
END:VEVENT
END:VCALENDAR